BEGIN:VCALENDAR
VERSION:2.0
PRODID:-//C.G. de Kroesmennekes - ECPv6.15.13//NONSGML v1.0//EN
CALSCALE:GREGORIAN
METHOD:PUBLISH
X-ORIGINAL-URL:https://kroesmennekes.nl
X-WR-CALDESC:Evenementen voor C.G. de Kroesmennekes
REFRESH-INTERVAL;VALUE=DURATION:PT1H
X-Robots-Tag:noindex
X-PUBLISHED-TTL:PT1H
BEGIN:VTIMEZONE
TZID:Europe/Amsterdam
BEGIN:DAYLIGHT
TZOFFSETFROM:+0100
TZOFFSETTO:+0200
TZNAME:CEST
DTSTART:20210328T010000
END:DAYLIGHT
BEGIN:STANDARD
TZOFFSETFROM:+0200
TZOFFSETTO:+0100
TZNAME:CET
DTSTART:20211031T010000
END:STANDARD
BEGIN:DAYLIGHT
TZOFFSETFROM:+0100
TZOFFSETTO:+0200
TZNAME:CEST
DTSTART:20220327T010000
END:DAYLIGHT
BEGIN:STANDARD
TZOFFSETFROM:+0200
TZOFFSETTO:+0100
TZNAME:CET
DTSTART:20221030T010000
END:STANDARD
BEGIN:DAYLIGHT
TZOFFSETFROM:+0100
TZOFFSETTO:+0200
TZNAME:CEST
DTSTART:20230326T010000
END:DAYLIGHT
BEGIN:STANDARD
TZOFFSETFROM:+0200
TZOFFSETTO:+0100
TZNAME:CET
DTSTART:20231029T010000
END:STANDARD
BEGIN:DAYLIGHT
TZOFFSETFROM:+0100
TZOFFSETTO:+0200
TZNAME:CEST
DTSTART:20240331T010000
END:DAYLIGHT
BEGIN:STANDARD
TZOFFSETFROM:+0200
TZOFFSETTO:+0100
TZNAME:CET
DTSTART:20241027T010000
END:STANDARD
BEGIN:DAYLIGHT
TZOFFSETFROM:+0100
TZOFFSETTO:+0200
TZNAME:CEST
DTSTART:20250330T010000
END:DAYLIGHT
BEGIN:STANDARD
TZOFFSETFROM:+0200
TZOFFSETTO:+0100
TZNAME:CET
DTSTART:20251026T010000
END:STANDARD
BEGIN:DAYLIGHT
TZOFFSETFROM:+0100
TZOFFSETTO:+0200
TZNAME:CEST
DTSTART:20260329T010000
END:DAYLIGHT
BEGIN:STANDARD
TZOFFSETFROM:+0200
TZOFFSETTO:+0100
TZNAME:CET
DTSTART:20261025T010000
END:STANDARD
END:VTIMEZONE
BEGIN:VEVENT
DTSTART;TZID=Europe/Amsterdam:20250125T193000
DTEND;TZID=Europe/Amsterdam:20250125T233000
DTSTAMP:20260424T220320
CREATED:20240914T114435Z
LAST-MODIFIED:20240914T114435Z
UID:7267-1737833400-1737847800@kroesmennekes.nl
SUMMARY:Gemeentegala
DESCRIPTION:
URL:https://kroesmennekes.nl/evenement/gemeentegala-3/
LOCATION:Feesttent\, Oldenzaalseweg\, Fleringen\, Nederland
END:VEVENT
BEGIN:VEVENT
DTSTART;TZID=Europe/Amsterdam:20250124T193000
DTEND;TZID=Europe/Amsterdam:20250124T233000
DTSTAMP:20260424T220320
CREATED:20240914T114353Z
LAST-MODIFIED:20240914T114353Z
UID:7265-1737747000-1737761400@kroesmennekes.nl
SUMMARY:Gala Kroesmennekes
DESCRIPTION:
URL:https://kroesmennekes.nl/evenement/gala-kroesmennekes-13/
LOCATION:Feesttent\, Oldenzaalseweg\, Fleringen\, Nederland
END:VEVENT
BEGIN:VEVENT
DTSTART;TZID=Europe/Amsterdam:20250123T193000
DTEND;TZID=Europe/Amsterdam:20250123T233000
DTSTAMP:20260424T220320
CREATED:20240914T114322Z
LAST-MODIFIED:20240914T114322Z
UID:7263-1737660600-1737675000@kroesmennekes.nl
SUMMARY:Gala Kroesmennekes
DESCRIPTION:
URL:https://kroesmennekes.nl/evenement/gala-kroesmennekes-12/
LOCATION:Feesttent\, Oldenzaalseweg\, Fleringen\, Nederland
END:VEVENT
BEGIN:VEVENT
DTSTART;TZID=Europe/Amsterdam:20250111T200000
DTEND;TZID=Europe/Amsterdam:20250111T233000
DTSTAMP:20260424T220320
CREATED:20240914T114117Z
LAST-MODIFIED:20241228T004838Z
UID:7260-1736625600-1736638200@kroesmennekes.nl
SUMMARY:Opening residentie
DESCRIPTION:
URL:https://kroesmennekes.nl/evenement/opening-residentie-5/
LOCATION:DOK’s\, Ootmarsumseweg 249-251\, Fleringen\, Nederland
END:VEVENT
BEGIN:VEVENT
DTSTART;TZID=Europe/Amsterdam:20241214T200000
DTEND;TZID=Europe/Amsterdam:20241214T233000
DTSTAMP:20260424T220320
CREATED:20240914T114037Z
LAST-MODIFIED:20240914T114037Z
UID:7258-1734206400-1734219000@kroesmennekes.nl
SUMMARY:Receptie Kroesmennekes
DESCRIPTION:
URL:https://kroesmennekes.nl/evenement/receptie-kroesmennekes/
END:VEVENT
BEGIN:VEVENT
DTSTART;TZID=Europe/Amsterdam:20241214T140000
DTEND;TZID=Europe/Amsterdam:20241214T200000
DTSTAMP:20260424T220320
CREATED:20240914T113921Z
LAST-MODIFIED:20240914T113921Z
UID:7256-1734184800-1734206400@kroesmennekes.nl
SUMMARY:Kennismakingsdag Hoogheden
DESCRIPTION:
URL:https://kroesmennekes.nl/evenement/kennismakingsdag-hoogheden/
END:VEVENT
BEGIN:VEVENT
DTSTART;VALUE=DATE:20241117
DTEND;VALUE=DATE:20241118
DTSTAMP:20260424T220320
CREATED:20240914T113804Z
LAST-MODIFIED:20240914T113804Z
UID:7254-1731801600-1731887999@kroesmennekes.nl
SUMMARY:Steekzetten
DESCRIPTION:
URL:https://kroesmennekes.nl/evenement/steekzetten-5/
END:VEVENT
BEGIN:VEVENT
DTSTART;TZID=Europe/Amsterdam:20241116T200000
DTEND;TZID=Europe/Amsterdam:20241116T233000
DTSTAMP:20260424T220320
CREATED:20240914T113651Z
LAST-MODIFIED:20240914T113651Z
UID:7252-1731787200-1731799800@kroesmennekes.nl
SUMMARY:Opkomstavond
DESCRIPTION:
URL:https://kroesmennekes.nl/evenement/opkomstavond-2/
LOCATION:DOK’s\, Ootmarsumseweg 249-251\, Fleringen\, Nederland
END:VEVENT
BEGIN:VEVENT
DTSTART;TZID=Europe/Amsterdam:20240213T190000
DTEND;TZID=Europe/Amsterdam:20240213T230000
DTSTAMP:20260424T220320
CREATED:20231027T165128Z
LAST-MODIFIED:20231027T165128Z
UID:7095-1707850800-1707865200@kroesmennekes.nl
SUMMARY:Medewerkersslotavond
DESCRIPTION:
URL:https://kroesmennekes.nl/evenement/medewerkersslotavond-2/
END:VEVENT
BEGIN:VEVENT
DTSTART;TZID=Europe/Amsterdam:20240213T110000
DTEND;TZID=Europe/Amsterdam:20240213T170000
DTSTAMP:20260424T220320
CREATED:20231027T165059Z
LAST-MODIFIED:20231027T165059Z
UID:7093-1707822000-1707843600@kroesmennekes.nl
SUMMARY:Dweilen
DESCRIPTION:
URL:https://kroesmennekes.nl/evenement/dweilen-2/
END:VEVENT
BEGIN:VEVENT
DTSTART;TZID=Europe/Amsterdam:20240210T140000
DTEND;TZID=Europe/Amsterdam:20240210T170000
DTSTAMP:20260424T220320
CREATED:20231027T165018Z
LAST-MODIFIED:20231027T165018Z
UID:7091-1707573600-1707584400@kroesmennekes.nl
SUMMARY:Optocht Kroesmennekes
DESCRIPTION:
URL:https://kroesmennekes.nl/evenement/optocht-kroesmennekes-4/
END:VEVENT
BEGIN:VEVENT
DTSTART;TZID=Europe/Amsterdam:20240128T140000
DTEND;TZID=Europe/Amsterdam:20240128T220000
DTSTAMP:20260424T220320
CREATED:20231027T164935Z
LAST-MODIFIED:20231027T164935Z
UID:7089-1706450400-1706479200@kroesmennekes.nl
SUMMARY:Dansmariekeconcours
DESCRIPTION:
URL:https://kroesmennekes.nl/evenement/dansmariekeconcours-4/
END:VEVENT
BEGIN:VEVENT
DTSTART;TZID=Europe/Amsterdam:20240127T193000
DTEND;TZID=Europe/Amsterdam:20240127T233000
DTSTAMP:20260424T220320
CREATED:20231027T164854Z
LAST-MODIFIED:20231027T164854Z
UID:7087-1706383800-1706398200@kroesmennekes.nl
SUMMARY:Gala Kroesmennekes
DESCRIPTION:
URL:https://kroesmennekes.nl/evenement/gala-kroesmennekes-11/
END:VEVENT
BEGIN:VEVENT
DTSTART;TZID=Europe/Amsterdam:20240126T193000
DTEND;TZID=Europe/Amsterdam:20240126T233000
DTSTAMP:20260424T220320
CREATED:20231027T164827Z
LAST-MODIFIED:20231027T164827Z
UID:7085-1706297400-1706311800@kroesmennekes.nl
SUMMARY:Gala Kroesmennekes
DESCRIPTION:
URL:https://kroesmennekes.nl/evenement/gala-kroesmennekes-10/
END:VEVENT
BEGIN:VEVENT
DTSTART;TZID=Europe/Amsterdam:20240106T200000
DTEND;TZID=Europe/Amsterdam:20240106T233000
DTSTAMP:20260424T220320
CREATED:20231027T164723Z
LAST-MODIFIED:20231027T164723Z
UID:7083-1704571200-1704583800@kroesmennekes.nl
SUMMARY:Opening residentie
DESCRIPTION:
URL:https://kroesmennekes.nl/evenement/opening-residentie-4/
LOCATION:DOK’s\, Ootmarsumseweg 249-251\, Fleringen\, Nederland
END:VEVENT
BEGIN:VEVENT
DTSTART;TZID=Europe/Amsterdam:20231112T140000
DTEND;TZID=Europe/Amsterdam:20231112T170000
DTSTAMP:20260424T220320
CREATED:20231027T164642Z
LAST-MODIFIED:20231027T165200Z
UID:7081-1699797600-1699808400@kroesmennekes.nl
SUMMARY:Steekzetten
DESCRIPTION:
URL:https://kroesmennekes.nl/evenement/steekzetten-4/
END:VEVENT
BEGIN:VEVENT
DTSTART;TZID=Europe/Amsterdam:20231111T200000
DTEND;TZID=Europe/Amsterdam:20231111T233000
DTSTAMP:20260424T220320
CREATED:20231027T164553Z
LAST-MODIFIED:20231027T164553Z
UID:7079-1699732800-1699745400@kroesmennekes.nl
SUMMARY:Prinsbekendmaking
DESCRIPTION:
URL:https://kroesmennekes.nl/evenement/prinsbekendmaking/
LOCATION:DOK’s\, Ootmarsumseweg 249-251\, Fleringen\, Nederland
END:VEVENT
BEGIN:VEVENT
DTSTART;TZID=Europe/Amsterdam:20230218T140000
DTEND;TZID=Europe/Amsterdam:20230218T233000
DTSTAMP:20260424T220320
CREATED:20221010T121303Z
LAST-MODIFIED:20221010T121303Z
UID:6994-1676728800-1676763000@kroesmennekes.nl
SUMMARY:Optocht Kroesmennekes
DESCRIPTION:
URL:https://kroesmennekes.nl/evenement/optocht-kroesmennekes-3/
LOCATION:DOK’s\, Ootmarsumseweg 249-251\, Fleringen\, Nederland
END:VEVENT
BEGIN:VEVENT
DTSTART;TZID=Europe/Amsterdam:20230210T090000
DTEND;TZID=Europe/Amsterdam:20230210T170000
DTSTAMP:20260424T220320
CREATED:20221010T121205Z
LAST-MODIFIED:20230123T173109Z
UID:6992-1676019600-1676048400@kroesmennekes.nl
SUMMARY:Schoolcarnaval
DESCRIPTION:
URL:https://kroesmennekes.nl/evenement/schoolcarnaval/
LOCATION:Basisschool Heilig Hart\, Oldenzaalseweg 90\, Fleringen\, 7666 LH
END:VEVENT
BEGIN:VEVENT
DTSTART;TZID=Europe/Amsterdam:20230129T133000
DTEND;TZID=Europe/Amsterdam:20230129T233000
DTSTAMP:20260424T220320
CREATED:20221010T121059Z
LAST-MODIFIED:20230123T173041Z
UID:6990-1674999000-1675035000@kroesmennekes.nl
SUMMARY:Dansmariekeconcours
DESCRIPTION:
URL:https://kroesmennekes.nl/evenement/dansmariekeconcours-3/
LOCATION:Feesttent\, Oldenzaalseweg\, Fleringen\, Nederland
END:VEVENT
BEGIN:VEVENT
DTSTART;TZID=Europe/Amsterdam:20230128T193000
DTEND;TZID=Europe/Amsterdam:20230128T233000
DTSTAMP:20260424T220320
CREATED:20221010T120942Z
LAST-MODIFIED:20230123T172944Z
UID:6988-1674934200-1674948600@kroesmennekes.nl
SUMMARY:Gala Kroesmennekes
DESCRIPTION:
URL:https://kroesmennekes.nl/evenement/gala-kroesmennekes-9/
LOCATION:Feesttent\, Oldenzaalseweg\, Fleringen\, Nederland
END:VEVENT
BEGIN:VEVENT
DTSTART;TZID=Europe/Amsterdam:20230127T193000
DTEND;TZID=Europe/Amsterdam:20230127T200000
DTSTAMP:20260424T220320
CREATED:20221010T120852Z
LAST-MODIFIED:20230123T173008Z
UID:6986-1674847800-1674849600@kroesmennekes.nl
SUMMARY:Gala Kroesmennekes
DESCRIPTION:
URL:https://kroesmennekes.nl/evenement/gala-kroesmennekes-8/
LOCATION:Feesttent\, Oldenzaalseweg\, Fleringen\, Nederland
END:VEVENT
BEGIN:VEVENT
DTSTART;TZID=Europe/Amsterdam:20230106T200000
DTEND;TZID=Europe/Amsterdam:20230106T233000
DTSTAMP:20260424T220320
CREATED:20221010T120721Z
LAST-MODIFIED:20221010T120721Z
UID:6984-1673035200-1673047800@kroesmennekes.nl
SUMMARY:Opening residentie
DESCRIPTION:
URL:https://kroesmennekes.nl/evenement/opening-residentie-3/
LOCATION:DOK’s\, Ootmarsumseweg 249-251\, Fleringen\, Nederland
END:VEVENT
BEGIN:VEVENT
DTSTART;VALUE=DATE:20221113
DTEND;VALUE=DATE:20221114
DTSTAMP:20260424T220320
CREATED:20221005T113444Z
LAST-MODIFIED:20221005T113444Z
UID:6981-1668297600-1668383999@kroesmennekes.nl
SUMMARY:Steekzetten
DESCRIPTION:
URL:https://kroesmennekes.nl/evenement/steekzetten-3/
LOCATION:Ootmarsumseweg 249-251\, Fleringen
END:VEVENT
BEGIN:VEVENT
DTSTART;TZID=Europe/Amsterdam:20221112T200000
DTEND;TZID=Europe/Amsterdam:20221112T233000
DTSTAMP:20260424T220320
CREATED:20221005T113402Z
LAST-MODIFIED:20221005T113402Z
UID:6979-1668283200-1668295800@kroesmennekes.nl
SUMMARY:Opkomstavond
DESCRIPTION:
URL:https://kroesmennekes.nl/evenement/opkomstavond/
LOCATION:DOK’s\, Ootmarsumseweg 249-251\, Fleringen\, Nederland
END:VEVENT
BEGIN:VEVENT
DTSTART;VALUE=DATE:20220226
DTEND;VALUE=DATE:20220227
DTSTAMP:20260424T220320
CREATED:20210928T191332Z
LAST-MODIFIED:20210928T191332Z
UID:6955-1645833600-1645919999@kroesmennekes.nl
SUMMARY:Optocht Kroesmennekes
DESCRIPTION:
URL:https://kroesmennekes.nl/evenement/optocht-kroesmennekes-2/
LOCATION:Ootmarsumseweg 249-251\, Fleringen
END:VEVENT
BEGIN:VEVENT
DTSTART;VALUE=DATE:20220130
DTEND;VALUE=DATE:20220131
DTSTAMP:20260424T220320
CREATED:20210928T191249Z
LAST-MODIFIED:20210928T191249Z
UID:6953-1643500800-1643587199@kroesmennekes.nl
SUMMARY:Dansmariekeconcours
DESCRIPTION:
URL:https://kroesmennekes.nl/evenement/dansmariekeconcours-2/
LOCATION:Feesttent\, Oldenzaalseweg\, Fleringen\, Nederland
END:VEVENT
BEGIN:VEVENT
DTSTART;TZID=Europe/Amsterdam:20220129T200000
DTEND;TZID=Europe/Amsterdam:20220129T200000
DTSTAMP:20260424T220320
CREATED:20210928T190944Z
LAST-MODIFIED:20210928T191023Z
UID:6950-1643486400-1643486400@kroesmennekes.nl
SUMMARY:Gala Kroesmennekes
DESCRIPTION:
URL:https://kroesmennekes.nl/evenement/gala-kroesmennekes-7/
LOCATION:Feesttent\, Oldenzaalseweg\, Fleringen\, Nederland
END:VEVENT
BEGIN:VEVENT
DTSTART;TZID=Europe/Amsterdam:20220128T200000
DTEND;TZID=Europe/Amsterdam:20220128T200000
DTSTAMP:20260424T220320
CREATED:20210928T190753Z
LAST-MODIFIED:20210928T191058Z
UID:6947-1643400000-1643400000@kroesmennekes.nl
SUMMARY:Gala Kroesmennekes
DESCRIPTION:
URL:https://kroesmennekes.nl/evenement/gala-kroesmennekes-6/
LOCATION:Feesttent\, Oldenzaalseweg\, Fleringen\, Nederland
END:VEVENT
BEGIN:VEVENT
DTSTART;TZID=Europe/Amsterdam:20220108T200000
DTEND;TZID=Europe/Amsterdam:20220108T200000
DTSTAMP:20260424T220320
CREATED:20210928T190659Z
LAST-MODIFIED:20210928T191130Z
UID:6945-1641672000-1641672000@kroesmennekes.nl
SUMMARY:Opening residentie
DESCRIPTION:
URL:https://kroesmennekes.nl/evenement/opening-residentie-2/
LOCATION:DOK’s\, Ootmarsumseweg 249-251\, Fleringen\, Nederland
END:VEVENT
END:VCALENDAR