BEGIN:VCALENDAR
VERSION:2.0
PRODID:-//C.G. de Kroesmennekes - ECPv6.15.13//NONSGML v1.0//EN
CALSCALE:GREGORIAN
METHOD:PUBLISH
X-ORIGINAL-URL:https://kroesmennekes.nl
X-WR-CALDESC:Evenementen voor C.G. de Kroesmennekes
REFRESH-INTERVAL;VALUE=DURATION:PT1H
X-Robots-Tag:noindex
X-PUBLISHED-TTL:PT1H
BEGIN:VTIMEZONE
TZID:Europe/Amsterdam
BEGIN:DAYLIGHT
TZOFFSETFROM:+0100
TZOFFSETTO:+0200
TZNAME:CEST
DTSTART:20170326T010000
END:DAYLIGHT
BEGIN:STANDARD
TZOFFSETFROM:+0200
TZOFFSETTO:+0100
TZNAME:CET
DTSTART:20171029T010000
END:STANDARD
BEGIN:DAYLIGHT
TZOFFSETFROM:+0100
TZOFFSETTO:+0200
TZNAME:CEST
DTSTART:20180325T010000
END:DAYLIGHT
BEGIN:STANDARD
TZOFFSETFROM:+0200
TZOFFSETTO:+0100
TZNAME:CET
DTSTART:20181028T010000
END:STANDARD
BEGIN:DAYLIGHT
TZOFFSETFROM:+0100
TZOFFSETTO:+0200
TZNAME:CEST
DTSTART:20190331T010000
END:DAYLIGHT
BEGIN:STANDARD
TZOFFSETFROM:+0200
TZOFFSETTO:+0100
TZNAME:CET
DTSTART:20191027T010000
END:STANDARD
BEGIN:DAYLIGHT
TZOFFSETFROM:+0100
TZOFFSETTO:+0200
TZNAME:CEST
DTSTART:20200329T010000
END:DAYLIGHT
BEGIN:STANDARD
TZOFFSETFROM:+0200
TZOFFSETTO:+0100
TZNAME:CET
DTSTART:20201025T010000
END:STANDARD
END:VTIMEZONE
BEGIN:VEVENT
DTSTART;TZID=Europe/Amsterdam:20190302T140000
DTEND;TZID=Europe/Amsterdam:20190302T140000
DTSTAMP:20260425T045719
CREATED:20181116T184457Z
LAST-MODIFIED:20181116T184457Z
UID:6773-1551535200-1551535200@kroesmennekes.nl
SUMMARY:Optocht Kroesmennekes
DESCRIPTION:
URL:https://kroesmennekes.nl/evenement/optocht-kroesmennekes/
LOCATION:DOK’s\, Ootmarsumseweg 249-251\, Fleringen\, Nederland
END:VEVENT
BEGIN:VEVENT
DTSTART;TZID=Europe/Amsterdam:20190301T190000
DTEND;TZID=Europe/Amsterdam:20190301T190000
DTSTAMP:20260425T045719
CREATED:20181116T184355Z
LAST-MODIFIED:20181116T184355Z
UID:6771-1551466800-1551466800@kroesmennekes.nl
SUMMARY:Verlichte optocht Schaopnböllkes
DESCRIPTION:
URL:https://kroesmennekes.nl/evenement/verlichte-optocht-schaopnbollkes/
LOCATION:Tubbergen\, Tubbergen\, Nederland
END:VEVENT
BEGIN:VEVENT
DTSTART;TZID=Europe/Amsterdam:20190228T193000
DTEND;TZID=Europe/Amsterdam:20190228T193000
DTSTAMP:20260425T045719
CREATED:20181116T184308Z
LAST-MODIFIED:20181116T184308Z
UID:6769-1551382200-1551382200@kroesmennekes.nl
SUMMARY:Gala Pin’n
DESCRIPTION:
URL:https://kroesmennekes.nl/evenement/gala-pinn/
LOCATION:Zaal Bay’s\, Kerkstraat 78\, Reutum\, Nederland
END:VEVENT
BEGIN:VEVENT
DTSTART;TZID=Europe/Amsterdam:20190224T120000
DTEND;TZID=Europe/Amsterdam:20190224T120000
DTSTAMP:20260425T045719
CREATED:20181116T184139Z
LAST-MODIFIED:20181116T184139Z
UID:6767-1551009600-1551009600@kroesmennekes.nl
SUMMARY:Optocht Alberger Bökke
DESCRIPTION:
URL:https://kroesmennekes.nl/evenement/optocht-alberger-bokke-2/
LOCATION:Optocht Albergen\, Albergen
END:VEVENT
BEGIN:VEVENT
DTSTART;TZID=Europe/Amsterdam:20190223T140000
DTEND;TZID=Europe/Amsterdam:20190223T140000
DTSTAMP:20260425T045719
CREATED:20181116T183827Z
LAST-MODIFIED:20181116T183827Z
UID:6765-1550930400-1550930400@kroesmennekes.nl
SUMMARY:Optocht Turftrappers
DESCRIPTION:
URL:https://kroesmennekes.nl/evenement/optocht-turftrappers-2/
LOCATION:Zaal Kottink\, Dorpstraat 36\, Geesteren\, Nederland
END:VEVENT
BEGIN:VEVENT
DTSTART;TZID=Europe/Amsterdam:20190222T193000
DTEND;TZID=Europe/Amsterdam:20190222T193000
DTSTAMP:20260425T045719
CREATED:20181116T183723Z
LAST-MODIFIED:20181116T183723Z
UID:6763-1550863800-1550863800@kroesmennekes.nl
SUMMARY:Gala Papsleef’n
DESCRIPTION:
URL:https://kroesmennekes.nl/evenement/gala-papsleefn-4/
LOCATION:Zaal Kottink\, Dorpstraat 36\, Geesteren\, Nederland
END:VEVENT
BEGIN:VEVENT
DTSTART;TZID=Europe/Amsterdam:20190221T200000
DTEND;TZID=Europe/Amsterdam:20190221T200000
DTSTAMP:20260425T045719
CREATED:20181116T183550Z
LAST-MODIFIED:20181116T183550Z
UID:6761-1550779200-1550779200@kroesmennekes.nl
SUMMARY:Gala Turftrappers
DESCRIPTION:
URL:https://kroesmennekes.nl/evenement/gala-turftrappers-3/
LOCATION:Feesttent Langeveen\, Langeveen\, Nederland
END:VEVENT
BEGIN:VEVENT
DTSTART;TZID=Europe/Amsterdam:20190217T160000
DTEND;TZID=Europe/Amsterdam:20190217T160000
DTSTAMP:20260425T045719
CREATED:20181116T183450Z
LAST-MODIFIED:20181116T183450Z
UID:6759-1550419200-1550419200@kroesmennekes.nl
SUMMARY:Gala Dubbelkiekers
DESCRIPTION:
URL:https://kroesmennekes.nl/evenement/gala-dubbelkiekers-4/
LOCATION:Kampkuiper\, Almeloseweg 113\, Harbrinkhoek\, Nederland
END:VEVENT
BEGIN:VEVENT
DTSTART;TZID=Europe/Amsterdam:20190216T193000
DTEND;TZID=Europe/Amsterdam:20190216T193000
DTSTAMP:20260425T045719
CREATED:20181116T183345Z
LAST-MODIFIED:20181116T183345Z
UID:6757-1550345400-1550345400@kroesmennekes.nl
SUMMARY:Gala Dubbelkiekers
DESCRIPTION:
URL:https://kroesmennekes.nl/evenement/gala-dubbelkiekers-3/
LOCATION:Kampkuiper\, Almeloseweg 113\, Harbrinkhoek\, Nederland
END:VEVENT
BEGIN:VEVENT
DTSTART;TZID=Europe/Amsterdam:20190215T200000
DTEND;TZID=Europe/Amsterdam:20190215T200000
DTSTAMP:20260425T045719
CREATED:20181116T183159Z
LAST-MODIFIED:20181116T183159Z
UID:6755-1550260800-1550260800@kroesmennekes.nl
SUMMARY:Gala Spekscheeters
DESCRIPTION:
URL:https://kroesmennekes.nl/evenement/gala-spekscheeters-4/
LOCATION:Eschhoes\, Hooidijk 21\, Vasse\, Nederland
END:VEVENT
BEGIN:VEVENT
DTSTART;TZID=Europe/Amsterdam:20190214T193000
DTEND;TZID=Europe/Amsterdam:20190214T193000
DTSTAMP:20260425T045719
CREATED:20181116T183108Z
LAST-MODIFIED:20181116T183108Z
UID:6753-1550172600-1550172600@kroesmennekes.nl
SUMMARY:Gala Spekscheeters
DESCRIPTION:
URL:https://kroesmennekes.nl/evenement/gala-spekscheeters-3/
LOCATION:Eschhoes\, Hooidijk 21\, Vasse\, Nederland
END:VEVENT
BEGIN:VEVENT
DTSTART;TZID=Europe/Amsterdam:20190209T111100
DTEND;TZID=Europe/Amsterdam:20190209T111100
DTSTAMP:20260425T045719
CREATED:20181116T182937Z
LAST-MODIFIED:20181116T182937Z
UID:6751-1549710660-1549710660@kroesmennekes.nl
SUMMARY:Sleuteloverdracht
DESCRIPTION:
URL:https://kroesmennekes.nl/evenement/sleuteloverdracht-3/
LOCATION:Ootmarsumseweg 249-251\, Fleringen
END:VEVENT
BEGIN:VEVENT
DTSTART;TZID=Europe/Amsterdam:20190208T200000
DTEND;TZID=Europe/Amsterdam:20190208T200000
DTSTAMP:20260425T045719
CREATED:20181116T182840Z
LAST-MODIFIED:20181116T182840Z
UID:6749-1549656000-1549656000@kroesmennekes.nl
SUMMARY:Gala Schaopnböllkes
DESCRIPTION:
URL:https://kroesmennekes.nl/evenement/gala-schaopnbollkes-4/
LOCATION:‘t Oale Roadhoes\, Grotestraat 60\, Tubbergen\, Nederland
END:VEVENT
BEGIN:VEVENT
DTSTART;TZID=Europe/Amsterdam:20190203T130000
DTEND;TZID=Europe/Amsterdam:20190203T130000
DTSTAMP:20260425T045719
CREATED:20181116T182556Z
LAST-MODIFIED:20181116T182556Z
UID:6745-1549198800-1549198800@kroesmennekes.nl
SUMMARY:Dansmariekeconcours
DESCRIPTION:
URL:https://kroesmennekes.nl/evenement/dansmariekeconcours/
LOCATION:Feesttent\, Oldenzaalseweg\, Fleringen\, Nederland
END:VEVENT
BEGIN:VEVENT
DTSTART;TZID=Europe/Amsterdam:20190203T000000
DTEND;TZID=Europe/Amsterdam:20190203T000000
DTSTAMP:20260425T045719
CREATED:20181116T182724Z
LAST-MODIFIED:20181116T182724Z
UID:6747-1549152000-1549152000@kroesmennekes.nl
SUMMARY:Gala Alberger Bökke
DESCRIPTION:
URL:https://kroesmennekes.nl/evenement/gala-alberger-bokke-6/
LOCATION:Ootmarsumseweg 249-251\, Fleringen
END:VEVENT
BEGIN:VEVENT
DTSTART;TZID=Europe/Amsterdam:20190202T193000
DTEND;TZID=Europe/Amsterdam:20190202T193000
DTSTAMP:20260425T045719
CREATED:20181116T182344Z
LAST-MODIFIED:20181116T182344Z
UID:6741-1549135800-1549135800@kroesmennekes.nl
SUMMARY:Gala Kroesmennekes
DESCRIPTION:
URL:https://kroesmennekes.nl/evenement/gala-kroesmennekes-5/
LOCATION:Feesttent\, Oldenzaalseweg\, Fleringen\, Nederland
END:VEVENT
BEGIN:VEVENT
DTSTART;TZID=Europe/Amsterdam:20190202T000000
DTEND;TZID=Europe/Amsterdam:20190202T000000
DTSTAMP:20260425T045719
CREATED:20181116T182439Z
LAST-MODIFIED:20181116T182439Z
UID:6743-1549065600-1549065600@kroesmennekes.nl
SUMMARY:Gala Alberger Bökke
DESCRIPTION:
URL:https://kroesmennekes.nl/evenement/gala-alberger-bokke-5/
LOCATION:Ootmarsumseweg 249-251\, Fleringen
END:VEVENT
BEGIN:VEVENT
DTSTART;TZID=Europe/Amsterdam:20190201T193000
DTEND;TZID=Europe/Amsterdam:20190201T193000
DTSTAMP:20260425T045719
CREATED:20181116T182116Z
LAST-MODIFIED:20181116T182116Z
UID:6737-1549049400-1549049400@kroesmennekes.nl
SUMMARY:Gala Kroesmennekes
DESCRIPTION:
URL:https://kroesmennekes.nl/evenement/gala-kroesmennekes-4/
LOCATION:Feesttent\, Oldenzaalseweg\, Fleringen\, Nederland
END:VEVENT
BEGIN:VEVENT
DTSTART;TZID=Europe/Amsterdam:20190201T000000
DTEND;TZID=Europe/Amsterdam:20190201T000000
DTSTAMP:20260425T045719
CREATED:20181116T182228Z
LAST-MODIFIED:20181116T182228Z
UID:6739-1548979200-1548979200@kroesmennekes.nl
SUMMARY:Gala Alberger Bökke
DESCRIPTION:
URL:https://kroesmennekes.nl/evenement/gala-alberger-bokke-4/
LOCATION:Ootmarsumseweg 249-251\, Fleringen
END:VEVENT
BEGIN:VEVENT
DTSTART;TZID=Europe/Amsterdam:20190131T000000
DTEND;TZID=Europe/Amsterdam:20190131T000000
DTSTAMP:20260425T045719
CREATED:20181116T182005Z
LAST-MODIFIED:20181116T182005Z
UID:6735-1548892800-1548892800@kroesmennekes.nl
SUMMARY:Gala Alberger Bökke
DESCRIPTION:
URL:https://kroesmennekes.nl/evenement/gala-alberger-bokke-3/
LOCATION:Ootmarsumseweg 249-251\, Fleringen
END:VEVENT
BEGIN:VEVENT
DTSTART;TZID=Europe/Amsterdam:20190118T190000
DTEND;TZID=Europe/Amsterdam:20190118T190000
DTSTAMP:20260425T045719
CREATED:20181116T181610Z
LAST-MODIFIED:20181116T181610Z
UID:6733-1547838000-1547838000@kroesmennekes.nl
SUMMARY:Carnavalsviering Jubileumfeest\, 44 jarig bestaan
DESCRIPTION:
URL:https://kroesmennekes.nl/evenement/carnavalsviering-jubileumfeest-44-jarig-bestaan/
LOCATION:Vasse\, Vasse\, Nederland
END:VEVENT
BEGIN:VEVENT
DTSTART;TZID=Europe/Amsterdam:20190106T111100
DTEND;TZID=Europe/Amsterdam:20190106T111100
DTSTAMP:20260425T045719
CREATED:20181116T181426Z
LAST-MODIFIED:20181116T181758Z
UID:6731-1546773060-1546773060@kroesmennekes.nl
SUMMARY:Gemeentelijke foto
DESCRIPTION:
URL:https://kroesmennekes.nl/evenement/gemeentelijke-foto/
LOCATION:Ootmarsumseweg 249-251\, Fleringen
END:VEVENT
BEGIN:VEVENT
DTSTART;TZID=Europe/Amsterdam:20181118T140000
DTEND;TZID=Europe/Amsterdam:20181118T140000
DTSTAMP:20260425T045719
CREATED:20181116T181244Z
LAST-MODIFIED:20181116T181244Z
UID:6727-1542549600-1542549600@kroesmennekes.nl
SUMMARY:Steekzetten
DESCRIPTION:
URL:https://kroesmennekes.nl/evenement/steekzetten-2/
LOCATION:Ootmarsumseweg 249-251\, Fleringen
END:VEVENT
BEGIN:VEVENT
DTSTART;TZID=Europe/Amsterdam:20181117T200000
DTEND;TZID=Europe/Amsterdam:20181117T233000
DTSTAMP:20260425T045719
CREATED:20180828T174428Z
LAST-MODIFIED:20180828T174428Z
UID:6700-1542484800-1542497400@kroesmennekes.nl
SUMMARY:Prinswisseling
DESCRIPTION:
URL:https://kroesmennekes.nl/evenement/prinswisseling-2018-11-17/
LOCATION:Ootmarsumseweg 249-251\, Fleringen
CATEGORIES:Carnaval,Prinswisseling
ATTACH;FMTTYPE=image/jpeg:https://kroesmennekes.nl/wp-content/uploads/2016/10/slider-nieuwe-prins-01-1024x427-1.jpg
END:VEVENT
BEGIN:VEVENT
DTSTART;TZID=Europe/Amsterdam:20180214T190000
DTEND;TZID=Europe/Amsterdam:20180214T200000
DTSTAMP:20260425T045719
CREATED:20170629T095655Z
LAST-MODIFIED:20170629T095655Z
UID:6524-1518634800-1518638400@kroesmennekes.nl
SUMMARY:Asoplegging Aswoensdag
DESCRIPTION:
URL:https://kroesmennekes.nl/evenement/dweilen-en-bokverbranden-2-2/
LOCATION:Ootmarsumseweg 249-251\, Fleringen
CATEGORIES:Carnaval
ATTACH;FMTTYPE=image/jpeg:https://kroesmennekes.nl/wp-content/uploads/2016/10/achter-facebook-01.jpg
END:VEVENT
BEGIN:VEVENT
DTSTART;TZID=Europe/Amsterdam:20180213T203000
DTEND;TZID=Europe/Amsterdam:20180213T235900
DTSTAMP:20260425T045719
CREATED:20171120T191406Z
LAST-MODIFIED:20171210T080911Z
UID:6636-1518553800-1518566340@kroesmennekes.nl
SUMMARY:Medewerkersslotavond
DESCRIPTION:
URL:https://kroesmennekes.nl/evenement/medewerkersslotavond/
LOCATION:DOK’s\, Ootmarsumseweg 249-251\, Fleringen\, Nederland
ATTACH;FMTTYPE=image/jpeg:https://kroesmennekes.nl/wp-content/uploads/2016/10/11406292_664079400401824_7799776043228094045_o.jpg
END:VEVENT
BEGIN:VEVENT
DTSTART;TZID=Europe/Amsterdam:20180213T123000
DTEND;TZID=Europe/Amsterdam:20180213T180000
DTSTAMP:20260425T045719
CREATED:20170629T094619Z
LAST-MODIFIED:20171210T080951Z
UID:6520-1518525000-1518544800@kroesmennekes.nl
SUMMARY:Dweilen
DESCRIPTION:
URL:https://kroesmennekes.nl/evenement/dweilen-en-bokverbranden-2/
LOCATION:Twente\, Twente\, Nederland
CATEGORIES:Carnaval
ATTACH;FMTTYPE=image/jpeg:https://kroesmennekes.nl/wp-content/uploads/2017/06/SAM_1218.jpg
END:VEVENT
BEGIN:VEVENT
DTSTART;VALUE=DATE:20180212
DTEND;VALUE=DATE:20180213
DTSTAMP:20260425T045719
CREATED:20170629T094709Z
LAST-MODIFIED:20171210T080822Z
UID:6522-1518393600-1518479999@kroesmennekes.nl
SUMMARY:Rosenmontag
DESCRIPTION:
URL:https://kroesmennekes.nl/evenement/rosenmontag-2/
CATEGORIES:Carnaval
ATTACH;FMTTYPE=image/jpeg:https://kroesmennekes.nl/wp-content/uploads/2017/06/SAM_1176.jpg
END:VEVENT
BEGIN:VEVENT
DTSTART;TZID=Europe/Amsterdam:20180211T111100
DTEND;TZID=Europe/Amsterdam:20180211T233000
DTSTAMP:20260425T045719
CREATED:20171120T191015Z
LAST-MODIFIED:20171210T082143Z
UID:6630-1518347460-1518391800@kroesmennekes.nl
SUMMARY:Optocht de Papsleef'n
DESCRIPTION:
URL:https://kroesmennekes.nl/evenement/optocht-de-papsleefn/
LOCATION:Geesteren\, Geesteren\, Nederland
ATTACH;FMTTYPE=image/jpeg:https://kroesmennekes.nl/wp-content/uploads/2017/11/Image1.jpg
END:VEVENT
BEGIN:VEVENT
DTSTART;TZID=Europe/Amsterdam:20180210T193000
DTEND;TZID=Europe/Amsterdam:20180210T233000
DTSTAMP:20260425T045719
CREATED:20171120T190852Z
LAST-MODIFIED:20171120T190852Z
UID:6628-1518291000-1518305400@kroesmennekes.nl
SUMMARY:Gala Papsleef'n
DESCRIPTION:
URL:https://kroesmennekes.nl/evenement/gala-papsleefn-3/
LOCATION:Zaal Kottink\, Dorpstraat 36\, Geesteren\, Nederland
END:VEVENT
END:VCALENDAR